BEGIN:VCALENDAR
VERSION:2.0
PRODID:-//ceres.rub.de//events//
CALSCALE:GREGORIAN
METHOD:PUBLISH
X-WR-TIMEZONE:UTC
BEGIN:VEVENT
SUMMARY:Netzwerk-Workshop
DTSTART:20150410T080000Z
DTEND:20150412T140000Z
DTSTAMP:20260421T025535Z
UID:de-20150410-netzwerk-workshop-1405@ceres.rub.de
CATEGORIES:
DESCRIPTION:HNR Workshop 2015Vom Schürfen und Knüpfen – Text Mining un
 d Netzwerkanalyse für Historiker_innen10.–12. April 2015Als 9. Veransta
 ltung in der Reihe „Historische Netzwerkforschung“ findet im April 201
 5 ein Workshop zu semantisch-sozialen Netzwerken an der Ruhr-Universität 
 Bochum statt. Die Workshop-Reihe bietet historisch orientierten Forscher_i
 nnen aller Fachbereich erste Einblicke in die Methodik und eine Plattform 
 zum Austausch über die neuesten Techniken der Netzwerkanalyse. Unter dies
 er Zielsetzung wird sich der Bochumer Workshop mit der Methode des Text Mi
 ning beschäftigen\, die eine zunehmende Automatisierung der Erstellung vo
 n Netzwerken aus historischem Material ermöglicht. Darüber hinaus spielt
  die Frage nach den Dimensionen von Texten\, die durch diese Methoden repr
 äsentiert werden können\, eine Rolle. Hierbei bieten semantisch-soziale 
 Netzwerke die Möglichkeit\, sich zum einen mit Begriffszusammenhängen un
 d Konzeptualisierungen\, zum anderen mit Beziehungen zwischen Entitäten a
 useinanderzusetzen.\nMehr Informationen
LOCATION:FNO 02/ 40-46
URL:https://ceres.rub.de/de/events/de-20150410-netzwerk-workshop/
END:VEVENT
END:VCALENDAR
