BEGIN:VCALENDAR
VERSION:2.0
PRODID:-//ceres.rub.de//events//
CALSCALE:GREGORIAN
METHOD:PUBLISH
X-WR-TIMEZONE:UTC
BEGIN:VEVENT
SUMMARY:AK Religion & Kunst (Krech)
DTSTART:20141217T110000Z
DTEND:20141217T190000Z
DTSTAMP:20260421T113907Z
UID:de-20141217-ak-religion-and-kunst-krech-1469@ceres.rub.de
CATEGORIES:
DESCRIPTION:
LOCATION:FNO 02/ 43
URL:https://ceres.rub.de/de/events/de-20141217-ak-religion-and-kunst-krech
 /
END:VEVENT
END:VCALENDAR
