BEGIN:VCALENDAR
VERSION:2.0
PRODID:-//ceres.rub.de//events//
CALSCALE:GREGORIAN
METHOD:PUBLISH
X-WR-TIMEZONE:UTC
BEGIN:VEVENT
SUMMARY:Buddhism in Motion
DTSTART:20141015T130000Z
DTEND:20141015T143000Z
DTSTAMP:20260421T125109Z
UID:de-20141015-de20141015bimpons-1406@ceres.rub.de
CATEGORIES:
DESCRIPTION:
LOCATION:FNO 02/ 40-46
URL:https://ceres.rub.de/de/events/de-20141015-de20141015bimpons/
END:VEVENT
END:VCALENDAR
