BEGIN:VCALENDAR
VERSION:2.0
PRODID:-//ceres.rub.de//events//
CALSCALE:GREGORIAN
METHOD:PUBLISH
X-WR-TIMEZONE:UTC
BEGIN:VEVENT
SUMMARY:Kim Knott\, Lancester: Local imperative: Reorienting research on r
 eligion
DTSTART:20140925T160000Z
DTEND:20140925T180000Z
DTSTAMP:20260421T142524Z
UID:de-20140925-kim-knott-local-imperative-1374@ceres.rub.de
CATEGORIES:
DESCRIPTION:Öffentlicher Vortrag und Keynote zur Eröffnung der AKMN-Tagu
 ng 2014 und zum Abschluss des eintägigen Praxisworkshops „Religiöse  V
 ielfalt — Handlungsfelder für die öffentliche Verwaltung“.
URL:https://ceres.rub.de/de/events/de-20140925-kim-knott-local-imperative/
END:VEVENT
END:VCALENDAR
