BEGIN:VCALENDAR
VERSION:2.0
PRODID:-//ceres.rub.de//events//
CALSCALE:GREGORIAN
METHOD:PUBLISH
X-WR-TIMEZONE:UTC
BEGIN:VEVENT
SUMMARY:Arbeitstreffen Horizon 2020
DTSTART:20140714T120000Z
DTEND:20140714T140000Z
DTSTAMP:20260423T130033Z
UID:de-20140714-arbeitstreffen-horizon-2020-1113@ceres.rub.de
CATEGORIES:
DESCRIPTION:
LOCATION:FNO 02/ 40-46
URL:https://ceres.rub.de/de/events/de-20140714-arbeitstreffen-horizon-2020
 /
END:VEVENT
END:VCALENDAR
