BEGIN:VCALENDAR
VERSION:2.0
PRODID:-//ceres.rub.de//events//
CALSCALE:GREGORIAN
METHOD:PUBLISH
X-WR-TIMEZONE:UTC
BEGIN:VEVENT
SUMMARY:Treffen Kunst & Religion
DTSTART:20140709T100000Z
DTEND:20140709T170000Z
DTSTAMP:20260423T130125Z
UID:de-20140709-treffen-kunst-and-religion-1152@ceres.rub.de
CATEGORIES:
DESCRIPTION:
LOCATION:FNO 02/ 43
URL:https://ceres.rub.de/de/events/de-20140709-treffen-kunst-and-religion/
END:VEVENT
END:VCALENDAR
