BEGIN:VCALENDAR
VERSION:2.0
PRODID:-//ceres.rub.de//events//
CALSCALE:GREGORIAN
METHOD:PUBLISH
X-WR-TIMEZONE:UTC
BEGIN:VEVENT
SUMMARY:Seminar: Madlen Krüger
DTSTART:20140530T080000Z
DTEND:20140530T210000Z
DTSTAMP:20260421T210559Z
UID:de-20140530-seminar-madlen-kruger-1116@ceres.rub.de
CATEGORIES:
DESCRIPTION:
LOCATION:FNO 02/ 40-46
URL:https://ceres.rub.de/de/events/de-20140530-seminar-madlen-kruger/
END:VEVENT
END:VCALENDAR
