BEGIN:VCALENDAR
VERSION:2.0
PRODID:-//ceres.rub.de//events//
CALSCALE:GREGORIAN
METHOD:PUBLISH
X-WR-TIMEZONE:UTC
BEGIN:VEVENT
SUMMARY:Auswertungsworkshop
DTSTART:20140509T100000Z
DTEND:20140509T140000Z
DTSTAMP:20260421T213156Z
UID:de-20140509-auswertungsworkshop-1105@ceres.rub.de
CATEGORIES:
DESCRIPTION:Auswertungsworkshop für das Forschungspraktikum "Online-Befra
 gung"
LOCATION:FNO 02/ 73-75
URL:https://ceres.rub.de/de/events/de-20140509-auswertungsworkshop/
END:VEVENT
END:VCALENDAR
