BEGIN:VCALENDAR
VERSION:2.0
PRODID:-//ceres.rub.de//events//
CALSCALE:GREGORIAN
METHOD:PUBLISH
X-WR-TIMEZONE:UTC
BEGIN:VEVENT
SUMMARY:KHK Montagssitzung | ZB Mission
DTSTART:20140630T160000Z
DTEND:20140630T180000Z
DTSTAMP:20260421T210657Z
UID:de-20140428-monday-meeting-mission-1047@ceres.rub.de
CATEGORIES:
DESCRIPTION:
LOCATION:FNO 02/ 40-46
URL:https://ceres.rub.de/de/events/de-20140428-monday-meeting-mission/
END:VEVENT
END:VCALENDAR
