BEGIN:VCALENDAR
VERSION:2.0
PRODID:-//ceres.rub.de//events//
CALSCALE:GREGORIAN
METHOD:PUBLISH
X-WR-TIMEZONE:UTC
BEGIN:VEVENT
SUMMARY:Absolvierendenfeier
DTSTART:20140404T160000Z
DTEND:20140404T200000Z
DTSTAMP:20260421T230055Z
UID:de-20140404-absolvierendenfeier-763@ceres.rub.de
CATEGORIES:
DESCRIPTION:
LOCATION:FNO 02/ 40-46
URL:https://ceres.rub.de/de/events/de-20140404-absolvierendenfeier/
END:VEVENT
END:VCALENDAR
