BEGIN:VCALENDAR
VERSION:2.0
PRODID:-//ceres.rub.de//events//
CALSCALE:GREGORIAN
METHOD:PUBLISH
X-WR-TIMEZONE:UTC
BEGIN:VEVENT
SUMMARY:Treffen CERES C
DTSTART:20140321T091500Z
DTEND:20140321T110000Z
DTSTAMP:20260422T002257Z
UID:de-20140321-treffen-ceres-c-805@ceres.rub.de
CATEGORIES:
DESCRIPTION:
LOCATION:FNO 02/ 73-75
URL:https://ceres.rub.de/de/events/de-20140321-treffen-ceres-c/
END:VEVENT
END:VCALENDAR
