BEGIN:VCALENDAR
VERSION:2.0
PRODID:-//ceres.rub.de//events//
CALSCALE:GREGORIAN
METHOD:PUBLISH
X-WR-TIMEZONE:UTC
BEGIN:VEVENT
SUMMARY:Workshop | CERES Nachwuchs Ideenschmiede
DTSTART:20140220T090000Z
DTEND:20140221T150000Z
DTSTAMP:20260422T015025Z
UID:de-20140220-ceres-nachwuchs-ideenschmiede-783@ceres.rub.de
CATEGORIES:
DESCRIPTION:
LOCATION:FNO 02/ 73-75
URL:https://ceres.rub.de/de/events/de-20140220-ceres-nachwuchs-ideenschmie
 de/
END:VEVENT
END:VCALENDAR
