BEGIN:VCALENDAR
VERSION:2.0
PRODID:-//ceres.rub.de//events//
CALSCALE:GREGORIAN
METHOD:PUBLISH
X-WR-TIMEZONE:UTC
BEGIN:VEVENT
SUMMARY:Runder Tisch mit dem Fachschaftsrat
DTSTART:20140205T110000Z
DTEND:20140205T130000Z
DTSTAMP:20260422T021622Z
UID:de-20140205-runder-tisch-mit-dem-fachschaftsrat-809@ceres.rub.de
CATEGORIES:
DESCRIPTION:
LOCATION:FNO 02/ 40-46
URL:https://ceres.rub.de/de/events/de-20140205-runder-tisch-mit-dem-fachsc
 haftsrat/
END:VEVENT
END:VCALENDAR
