BEGIN:VCALENDAR
VERSION:2.0
PRODID:-//ceres.rub.de//events//
CALSCALE:GREGORIAN
METHOD:PUBLISH
X-WR-TIMEZONE:UTC
BEGIN:VEVENT
SUMMARY:Gastvortrag | Ulrike Popp-Baier (Amsterdam): "Wer's glaubt wird se
 lig. Ambitionen und Ambivalenzen in der psychologischen Religionsforschung
 "
DTSTART:20140122T150000Z
DTEND:20140122T170000Z
DTSTAMP:20260422T034921Z
UID:de-20140122-gastvortrag-popp-baier-800@ceres.rub.de
CATEGORIES:
DESCRIPTION:
URL:https://ceres.rub.de/de/events/de-20140122-gastvortrag-popp-baier/
END:VEVENT
END:VCALENDAR
