BEGIN:VCALENDAR
VERSION:2.0
PRODID:-//ceres.rub.de//events//
CALSCALE:GREGORIAN
METHOD:PUBLISH
X-WR-TIMEZONE:UTC
BEGIN:VEVENT
SUMMARY:KHK Montagssitzung | Themenfeld 1
DTSTART:20140120T151500Z
DTEND:20140120T164500Z
DTSTAMP:20260422T033457Z
UID:de-20140120-monday-meeting-rf1-643@ceres.rub.de
CATEGORIES:
DESCRIPTION:Vortrag von Prof. a.D. Dr. Karl-Friedrich Pohlmann (Münster):
  "Conversion and the Formation of Qur'an".
LOCATION:FNO 02/ 40-46
URL:https://ceres.rub.de/de/events/de-20140120-monday-meeting-rf1/
END:VEVENT
END:VCALENDAR
