BEGIN:VCALENDAR
VERSION:2.0
PRODID:-//ceres.rub.de//events//
CALSCALE:GREGORIAN
METHOD:PUBLISH
X-WR-TIMEZONE:UTC
BEGIN:VEVENT
SUMMARY:CERES Nachwuchskolloquium
DTSTART:20140116T170000Z
DTEND:20140116T183000Z
DTSTAMP:20260422T034122Z
UID:de-20140116-ceres-nachwuchskolloquium-poelking-769@ceres.rub.de
CATEGORIES:
DESCRIPTION:Programm\nPatricia Lenz: Vorstellung der Masterarbeit: Arbeits
 titel: Walter Benjamins Überlegungen zur Religion und seine Methoden der 
 „rettenden Kritik“ im Werk von Michael Taussig.\nPlanung der Blockvera
 nstaltung am 20./21.02.2014
LOCATION:FNO 02/ 73-75
URL:https://ceres.rub.de/de/events/de-20140116-ceres-nachwuchskolloquium-p
 oelking/
END:VEVENT
END:VCALENDAR
