BEGIN:VCALENDAR
VERSION:2.0
PRODID:-//ceres.rub.de//events//
CALSCALE:GREGORIAN
METHOD:PUBLISH
X-WR-TIMEZONE:UTC
BEGIN:VEVENT
SUMMARY:KHK Montagssitzung | Themenfeld 2
DTSTART:20140113T151500Z
DTEND:20140113T164500Z
DTSTAMP:20260422T033457Z
UID:de-20140113-monday-meeting-rf2-641@ceres.rub.de
CATEGORIES:
DESCRIPTION:
LOCATION:FNO 02/ 40-46
URL:https://ceres.rub.de/de/events/de-20140113-monday-meeting-rf2/
END:VEVENT
END:VCALENDAR
