BEGIN:VCALENDAR
VERSION:2.0
PRODID:-//ceres.rub.de//events//
CALSCALE:GREGORIAN
METHOD:PUBLISH
X-WR-TIMEZONE:UTC
BEGIN:VEVENT
SUMMARY:CERES Nachwuchskolloquium
DTSTART:20131212T170000Z
DTEND:20131212T183000Z
DTSTAMP:20260422T051323Z
UID:de-20131212-ceres-nachwuchskolloquium-poelking-768@ceres.rub.de
CATEGORIES:
DESCRIPTION:Programm\nJulian Höbsch: Kontemplation als Beispiel für reli
 giöse Deprivatisierung aus Sicht der polnischen Bischofskonferenz.
LOCATION:FNO 02/ 73-75
URL:https://ceres.rub.de/de/events/de-20131212-ceres-nachwuchskolloquium-p
 oelking/
END:VEVENT
END:VCALENDAR
