BEGIN:VCALENDAR
VERSION:2.0
PRODID:-//ceres.rub.de//events//
CALSCALE:GREGORIAN
METHOD:PUBLISH
X-WR-TIMEZONE:UTC
BEGIN:VEVENT
SUMMARY:KHK Montagssitzung | Transzendenz-Gruppe
DTSTART:20131209T151500Z
DTEND:20131209T164500Z
DTSTAMP:20260422T051633Z
UID:de-20131209-monday-meeting-transcendence-747@ceres.rub.de
CATEGORIES:
DESCRIPTION:Gerard Wiegers introduces to Hajari (cf. texts in the document
 s)
LOCATION:FNO 02/ 40-46
URL:https://ceres.rub.de/de/events/de-20131209-monday-meeting-transcendenc
 e/
END:VEVENT
END:VCALENDAR
