BEGIN:VCALENDAR
VERSION:2.0
PRODID:-//ceres.rub.de//events//
CALSCALE:GREGORIAN
METHOD:PUBLISH
X-WR-TIMEZONE:UTC
BEGIN:VEVENT
SUMMARY:KHK Montagssitzung | Themenfeld 3
DTSTART:20131125T151500Z
DTEND:20131125T164500Z
DTSTAMP:20260422T064636Z
UID:de-20131125-monday-meeting-rf3-633@ceres.rub.de
CATEGORIES:
DESCRIPTION:Introduction and discussion of ideas for the work of research 
 field 3 in the second phase of the KHK\, i.e. from late 2014 onwards.
LOCATION:FNO 02/ 40-46
URL:https://ceres.rub.de/de/events/de-20131125-monday-meeting-rf3/
END:VEVENT
END:VCALENDAR
