BEGIN:VCALENDAR
VERSION:2.0
PRODID:-//ceres.rub.de//events//
CALSCALE:GREGORIAN
METHOD:PUBLISH
X-WR-TIMEZONE:UTC
BEGIN:VEVENT
SUMMARY:Buddhism in Motion
DTSTART:20131112T151500Z
DTEND:20131112T164500Z
DTSTAMP:20260422T063547Z
UID:de-20131112-BIM-758@ceres.rub.de
CATEGORIES:
DESCRIPTION:
LOCATION:FNO 02/ 40-46
URL:https://ceres.rub.de/de/events/de-20131112-BIM/
END:VEVENT
END:VCALENDAR
