BEGIN:VCALENDAR
VERSION:2.0
PRODID:-//ceres.rub.de//events//
CALSCALE:GREGORIAN
METHOD:PUBLISH
X-WR-TIMEZONE:UTC
BEGIN:VEVENT
SUMMARY:KHK Montagssitzung | Transzendenz-Gruppe
DTSTART:20131104T171500Z
DTEND:20131104T184500Z
DTSTAMP:20260422T064652Z
UID:de-20131104-monday-meeting-transcendence-746@ceres.rub.de
CATEGORIES:
DESCRIPTION:
LOCATION:FNO 02/ 40-46
URL:https://ceres.rub.de/de/events/de-20131104-monday-meeting-transcendenc
 e/
END:VEVENT
END:VCALENDAR
