BEGIN:VCALENDAR
VERSION:2.0
PRODID:-//ceres.rub.de//events//
CALSCALE:GREGORIAN
METHOD:PUBLISH
X-WR-TIMEZONE:UTC
BEGIN:VEVENT
SUMMARY:Conference | Rethinking Religion and Globalization
DTSTART:20131021T100000Z
DTEND:20131022T120000Z
DTSTAMP:20260422T082116Z
UID:de-20131021-conference-srinivas-727@ceres.rub.de
CATEGORIES:
DESCRIPTION:Conference folder\nFull conference programme including abstrac
 ts\nTwenty years since the first formulations about the complex links betw
 een religion and globalization\, what is our understanding today? This con
 ference aims to take a moment to rethink religion and globalization and th
 e forces and concerns that this intersection raises for us today. Historia
 ns\, religious studies scholars\, philosophers\, anthropologists and socio
 logists all participate in this meditation not only to review the ground b
 ut in an attempt to move the scholarship forward.\n\nMost of  the talks o
 f the conference are available as videos: Rethinking Religion and Globaliz
 ation at Echo360
URL:https://ceres.rub.de/de/events/de-20131021-conference-srinivas/
END:VEVENT
END:VCALENDAR
