BEGIN:VCALENDAR
VERSION:2.0
PRODID:-//ceres.rub.de//events//
CALSCALE:GREGORIAN
METHOD:PUBLISH
X-WR-TIMEZONE:UTC
BEGIN:VEVENT
SUMMARY:KHK Montagssitzung | Themenfeld 3
DTSTART:20131014T161500Z
DTEND:20131014T174500Z
DTSTAMP:20260422T082953Z
UID:de-20131014-monday-meeting-rf3-624@ceres.rub.de
CATEGORIES:
DESCRIPTION:
LOCATION:FNO 02/ 40-46
URL:https://ceres.rub.de/de/events/de-20131014-monday-meeting-rf3/
END:VEVENT
END:VCALENDAR
