BEGIN:VCALENDAR
VERSION:2.0
PRODID:-//ceres.rub.de//events//
CALSCALE:GREGORIAN
METHOD:PUBLISH
X-WR-TIMEZONE:UTC
BEGIN:VEVENT
SUMMARY:Mystik und Gnosis in Literatur\, Kunst und Wissensdiskursen
DTSTART:20130919T073000Z
DTEND:20130920T120000Z
DTSTAMP:20260422T100721Z
UID:de-20130919-tagung-mystik-gnosis-425@ceres.rub.de
CATEGORIES:
DESCRIPTION:Programm\n19. September\n9.30Linda Simonis (Bochum):Einführun
 g: Gnosis und Mystik als Elemente einer komparatistischen Rezeptions und 
 Diskursgeschichte\n10.00Kocku von Stuckrad (Groningen):Die Konzepte Gnosis
  und Mystik und ihr Verhältnis zu Wissensdiskursen (Arbeitstitel)\n11.00 
 – 11.30 Kaffeepause\n11.30Andreas Kilcher (Zürich):Nichtwissen/Allwisse
 n. Zur historischen Dialektik des Wissens in Mystik\, Gnostik und Esoteri
 k\n12.30 Mittagspause\n14.30Elisabeth Hollender (Frankfurt a. M.):Communio
  Liturgica.Die Schau der himmlischen Anbetung in hebräischer liturgischer
  Poesie des Mittelalters\n15.30Almut-Barbara Renger (Berlin):Zur Rolle der
  ersten Eranos-Tagungen bei der Konstruktion von „Mystik“ als transku
 ltureller Kategorie\n16.30 – 17.00 Kaffeepause\n17.00Stefan Köck (Bochu
 m):Zur Frage der Anwendbarkeit der Konzepte Mystik und Gnosis auf buddhist
 ische Traditionen\n18.00Moritz Hannemann/ David Renz (Bochum):Gnosis-Rezep
 tion im Werk Martin Heideggers\n20.00 Gemeinsames Abendessen\n20. Septembe
 r\n9.30Sandra Peter (Bochum):Gian Lorenzo Berninis „Die Verzückung der 
 hl. Theresa“\n10.15Joachim Jacob (Gießen):Mystik als theologisches Prob
 lem und literarische Praxis im Pietismus des 18. Jahrhunderts\n11.00 – 1
 1.30 Kaffeepause\n11.30Betül Dilmac (Freiburg):Balzacs Mystizismus und de
 r ‚bouddha du nord’: Interpretationen der Lehren Swedenborgs in Louis
  Lambert und Séraphîta\n12.15Steffen Schneider (Tübingen):Mystik und Ge
 walt in Gustave Flauberts Trois Contes\n13.00 Schlussdiskussion
URL:https://ceres.rub.de/de/events/de-20130919-tagung-mystik-gnosis/
END:VEVENT
END:VCALENDAR
