BEGIN:VCALENDAR
VERSION:2.0
PRODID:-//ceres.rub.de//events//
CALSCALE:GREGORIAN
METHOD:PUBLISH
X-WR-TIMEZONE:UTC
BEGIN:VEVENT
SUMMARY:Young Scientists Research Colloquium
DTSTART:20130703T161500Z
DTEND:20130703T174500Z
DTSTAMP:20260422T132548Z
UID:de-20130703-ceres-colloquium-418@ceres.rub.de
CATEGORIES:
DESCRIPTION:Programm\nVeronika Pütz: „Spirituelle Synapsen und Gottes G
 ehirnwindungen?“ Was bildgebende Verfahren der Neurowissenschaft (nicht)
  zur Erforschung religiöser Phänomene beitragen können.
LOCATION:FNO 02/ 73-75
URL:https://ceres.rub.de/de/events/de-20130703-ceres-colloquium/
END:VEVENT
END:VCALENDAR
