BEGIN:VCALENDAR
VERSION:2.0
PRODID:-//ceres.rub.de//events//
CALSCALE:GREGORIAN
METHOD:PUBLISH
X-WR-TIMEZONE:UTC
BEGIN:VEVENT
SUMMARY:Arbeitstreffen CERES B-Gruppe
DTSTART:20130703T160000Z
DTEND:20130703T180000Z
DTSTAMP:20260422T132725Z
UID:de-20130703-arbeitstreffen-ceres-b-435@ceres.rub.de
CATEGORIES:
DESCRIPTION:\nZusammenfassung der vorhergegangenen Sitzungen und Diskussio
 n der weiteren Vorgehensweise\nErkundung allgemeiner/theoretischer Literat
 ur\n
LOCATION:FNO 02/ 40-46
URL:https://ceres.rub.de/de/events/de-20130703-arbeitstreffen-ceres-b/
END:VEVENT
END:VCALENDAR
