BEGIN:VCALENDAR
VERSION:2.0
PRODID:-//ceres.rub.de//events//
CALSCALE:GREGORIAN
METHOD:PUBLISH
X-WR-TIMEZONE:UTC
BEGIN:VEVENT
SUMMARY:Come-Together
DTSTART:20150713T173000Z
DTEND:20150713T193000Z
DTSTAMP:20260420T223107Z
UID:come_together_2-1551@ceres.rub.de
CATEGORIES:
DESCRIPTION:This event is to resume the discussions after the conference.
URL:https://ceres.rub.de/de/events/come_together_2/
END:VEVENT
END:VCALENDAR
