BEGIN:VCALENDAR
VERSION:2.0
PRODID:-//ceres.rub.de//events//
CALSCALE:GREGORIAN
METHOD:PUBLISH
X-WR-TIMEZONE:UTC
BEGIN:VEVENT
SUMMARY:CERES-Methoden-Workshop
DTSTART:20130916T080000Z
DTEND:20130917T160000Z
DTSTAMP:20260422T101217Z
UID:ceres-methoden-workshop-438@ceres.rub.de
CATEGORIES:
DESCRIPTION:
LOCATION:FNO 02/ 40-46
URL:https://ceres.rub.de/de/events/ceres-methoden-workshop/
END:VEVENT
END:VCALENDAR
