BEGIN:VCALENDAR
VERSION:2.0
PRODID:-//ceres.rub.de//events//
CALSCALE:GREGORIAN
METHOD:PUBLISH
X-WR-TIMEZONE:UTC
BEGIN:VEVENT
SUMMARY:CERES D Meeting
DTSTART:20151126T130000Z
DTEND:20151126T143000Z
DTSTAMP:20260421T045829Z
UID:ceres-d-meeting-2085@ceres.rub.de
CATEGORIES:
DESCRIPTION:
LOCATION:CERES-Palais\, Raum "Lalibela" (3.11)
URL:https://ceres.rub.de/de/events/ceres-d-meeting/
END:VEVENT
END:VCALENDAR
