BEGIN:VCALENDAR
VERSION:2.0
PRODID:-//ceres.rub.de//events//
CALSCALE:GREGORIAN
METHOD:PUBLISH
X-WR-TIMEZONE:UTC
BEGIN:VEVENT
SUMMARY:CERES B meeting
DTSTART:20140423T140000Z
DTEND:20140423T160000Z
DTSTAMP:20260421T230320Z
UID:ceres-b-meeting_20140423_de-1064@ceres.rub.de
CATEGORIES:
DESCRIPTION:
LOCATION:FNO 02/ 40-46
URL:https://ceres.rub.de/de/events/ceres-b-meeting_20140423_de/
END:VEVENT
END:VCALENDAR
