BEGIN:VCALENDAR
VERSION:2.0
PRODID:-//ceres.rub.de//events//
CALSCALE:GREGORIAN
METHOD:PUBLISH
X-WR-TIMEZONE:UTC
BEGIN:VEVENT
SUMMARY:Blockseminar: A generation under a spell – witchcraft in modern 
 society
DTSTART:20220423T080000Z
DTEND:20220423T140000Z
DTSTAMP:20260419T231920Z
UID:blockseminar-22-04-2022-8270@ceres.rub.de
CATEGORIES:
DESCRIPTION:
LOCATION:CERES-Palais\, Raum "Turfan" (0.13)
URL:https://ceres.rub.de/de/events/blockseminar-22-04-2022/
END:VEVENT
BEGIN:VEVENT
SUMMARY:Blockseminar: A generation under a spell – witchcraft in modern 
 society
DTSTART:20220422T080000Z
DTEND:20220422T140000Z
DTSTAMP:20260419T231920Z
UID:blockseminar-22-04-2022-8256@ceres.rub.de
CATEGORIES:
DESCRIPTION:
LOCATION:CERES-Palais\, Raum "Lalibela" (3.11)
URL:https://ceres.rub.de/de/events/blockseminar-22-04-2022/
END:VEVENT
END:VCALENDAR
