BEGIN:VCALENDAR
VERSION:2.0
PRODID:-//ceres.rub.de//events//
CALSCALE:GREGORIAN
METHOD:PUBLISH
X-WR-TIMEZONE:UTC
BEGIN:VEVENT
SUMMARY:Working Group\, Transfer and Resistance
DTSTART:20121211T091500Z
DTEND:20121211T104500Z
DTSTAMP:20260421T043039Z
UID:WG_FG_TR_111212_de-344@ceres.rub.de
CATEGORIES:
DESCRIPTION:
URL:https://ceres.rub.de/de/events/WG_FG_TR_111212_de/
END:VEVENT
END:VCALENDAR
