BEGIN:VCALENDAR
VERSION:2.0
PRODID:-//ceres.rub.de//events//
CALSCALE:GREGORIAN
METHOD:PUBLISH
X-WR-TIMEZONE:UTC
BEGIN:VEVENT
SUMMARY:Themenfeld 3
DTSTART:20120521T141500Z
DTEND:20120521T174500Z
DTSTAMP:20260420T122751Z
UID:TF3_210512_de-256@ceres.rub.de
CATEGORIES:
DESCRIPTION:
URL:https://ceres.rub.de/de/events/TF3_210512_de/
END:VEVENT
END:VCALENDAR
