BEGIN:VCALENDAR
VERSION:2.0
PRODID:-//ceres.rub.de//events//
CALSCALE:GREGORIAN
METHOD:PUBLISH
X-WR-TIMEZONE:UTC
BEGIN:VEVENT
SUMMARY:Gastvortrag Tempei Kurata: "Nestorian Christianity and Japan"
DTSTART:20121129T170000Z
DTEND:20121129T190000Z
DTSTAMP:20260420T002024Z
UID:NIJ_29112012_de-347@ceres.rub.de
CATEGORIES:
DESCRIPTION:poster\nAbout 600 years before the Roman Catholic Church began
  missionary work in China\, Nestorian missionaries had already arrived at 
 Chang'an\, the Chinese capital at that time. Nestorians left behind cultur
 al goods like books\, especially translations of the Bible\, and instituti
 ons such as hospitals along their way from Mesopotamia\, the birthplace of
  Nestorian Christianity\, to China. Even today one can find traces of a Ne
 storian heritage in the culture\, religions\, ethics\, and science of the 
 countries along the Silk Road.\nThe lecture will address the question if t
 he Nestorian Christianity reached Japan. This question has been asked by m
 any historians since the beginning of the 20th century\, and yet even toda
 y there is no clear answer. It is generally accepted that Nestorian Christ
 ianity did not come to Japan\, because no records or archeological traces 
 of any Nestorian missions to Japan exist.
URL:https://ceres.rub.de/de/events/NIJ_29112012_de/
END:VEVENT
END:VCALENDAR
