BEGIN:VCALENDAR
VERSION:2.0
PRODID:-//ceres.rub.de//events//
CALSCALE:GREGORIAN
METHOD:PUBLISH
X-WR-TIMEZONE:UTC
BEGIN:VEVENT
SUMMARY:CERES-Stand auf IAHR-Kongress
DTSTART:20150823T080000Z
DTEND:20150829T100000Z
DTSTAMP:20260420T200911Z
UID:IAHR_ceres_booth-1571@ceres.rub.de
CATEGORIES:
DESCRIPTION:Das Centrum für Religionswissenschaftliche Studien (CERES) wi
 rd mit einem Stand auf dem XXI Weltkongress der International Association 
 for the  History of Religions (IAHR) in Erfurt präsent sein.\nTeilnehmer/
 innen des Kongresses können am CERES-Stand mehr erfahren über\n\ndas Kä
 te Hamburger Kolleg Dynamiken der Religionsgeschichte zwischen Asien und E
 uropa\,\ndas laufende HERA-geförderte Forschungsprojekt Iconic Religions\
 ,\ndas neue Forschungsprojekt JEWSEAST\,\ndas international Online-Journal
  Entangled Religions\,\ndie Forschungsschwerpunkte Relational Religions un
 d Digital Humanities\, \nund die Lern- und Arbeitsumwelt des Centrums für
  Religionswissenschaftlicher Studien (CERES) an der Ruhr-Universität Boch
 um.\n\nMehr Informationen zum IAHR-Weltkongress in Erfurt hier.
URL:https://ceres.rub.de/de/events/IAHR_ceres_booth/
END:VEVENT
END:VCALENDAR
