BEGIN:VCALENDAR
VERSION:2.0
PRODID:-//ceres.rub.de//events//
CALSCALE:GREGORIAN
METHOD:PUBLISH
X-WR-TIMEZONE:UTC
BEGIN:VEVENT
SUMMARY:CERES Board Meeting
DTSTART:20141106T110000Z
DTEND:20141106T130000Z
DTSTAMP:20260421T113907Z
UID:CERESBoardMeeting-2014-11-06_de-807@ceres.rub.de
CATEGORIES:
DESCRIPTION:
LOCATION:FNO 02/ 40-46
URL:https://ceres.rub.de/de/events/CERESBoardMeeting-2014-11-06_de/
END:VEVENT
END:VCALENDAR
