BEGIN:VCALENDAR
VERSION:2.0
PRODID:-//ceres.rub.de//events//
CALSCALE:GREGORIAN
METHOD:PUBLISH
X-WR-TIMEZONE:UTC
BEGIN:VEVENT
SUMMARY:Materialwerkstatt Wissenstransfer: Die religionspolitische Dimensi
 on von Statistik
DTSTART:20170118T131500Z
DTEND:20170118T144500Z
DTSTAMP:20260421T044016Z
UID:20170118-materialwerkstatt-3190@ceres.rub.de
CATEGORIES:
DESCRIPTION:Vortrag zum Thema Aufbereitung von Daten und Informationen zu 
 Religionsgemeinschaften in Deutschland von Christoph Wagenseil (Religionsw
 issenschaftlicher Medien- und Informationsdienst REMID e. V.)\n
LOCATION:CERES-Palais\, Raum "Cordoba" (3.06)
URL:https://ceres.rub.de/de/events/20170118-materialwerkstatt/
END:VEVENT
END:VCALENDAR
