BEGIN:VCALENDAR
VERSION:2.0
PRODID:-//ceres.rub.de//events//
CALSCALE:GREGORIAN
METHOD:PUBLISH
X-WR-TIMEZONE:UTC
BEGIN:VEVENT
SUMMARY:Monday Meeting: Research Field 4 (Globalisation)
DTSTART:20150112T151500Z
DTEND:20150112T164500Z
DTSTAMP:20260421T080321Z
UID:2015-01-12-mm-globalisation-ger-1457@ceres.rub.de
CATEGORIES:
DESCRIPTION:For Rub-colleagues and fellows.
LOCATION:FNO 02/ 40-46
URL:https://ceres.rub.de/de/events/2015-01-12-mm-globalisation-ger/
END:VEVENT
END:VCALENDAR
