BEGIN:VCALENDAR
VERSION:2.0
PRODID:-//ceres.rub.de//events//
CALSCALE:GREGORIAN
METHOD:PUBLISH
X-WR-TIMEZONE:UTC
BEGIN:VEVENT
SUMMARY:Monday Meeting: Plenary Session
DTSTART:20141201T171500Z
DTEND:20141201T184500Z
DTSTAMP:20260421T093644Z
UID:20141201_mm_plenary_ger-1389@ceres.rub.de
CATEGORIES:
DESCRIPTION:Fellow-Presentations:Ksenia Pimenova on her KHK-research proje
 ct "Transformation of Traditional Indigenous Religions of Siberia under Bu
 ddhist and Esoteric Influence".Grégoire Espesset on his KHK-research proj
 ect "The Scripture Within the Scripture: Chinese Strategies for the Phagoc
 ytosis of Foreignness in “Buddho-Taoist” Texts (Fourth–Ninth Centuri
 es)". 
LOCATION:FNO 02/ 40-46
URL:https://ceres.rub.de/de/events/20141201_mm_plenary_ger/
END:VEVENT
END:VCALENDAR
